BEGIN:VCALENDAR
VERSION:2.0
PRODID:-//Green Hills Golf Course - Chillicothe, MO - ECPv6.15.20//NONSGML v1.0//EN
CALSCALE:GREGORIAN
METHOD:PUBLISH
X-WR-CALNAME:Green Hills Golf Course - Chillicothe, MO
X-ORIGINAL-URL:https://greenhillsgolflinks.com
X-WR-CALDESC:Events for Green Hills Golf Course - Chillicothe, MO
REFRESH-INTERVAL;VALUE=DURATION:PT1H
X-Robots-Tag:noindex
X-PUBLISHED-TTL:PT1H
BEGIN:VTIMEZONE
TZID:UTC
BEGIN:STANDARD
TZOFFSETFROM:+0000
TZOFFSETTO:+0000
TZNAME:UTC
DTSTART:20230101T000000
END:STANDARD
END:VTIMEZONE
BEGIN:VEVENT
DTSTART;TZID=UTC:20250520T173000
DTEND;TZID=UTC:20250520T200000
DTSTAMP:20260422T004915
CREATED:20250221T191847Z
LAST-MODIFIED:20250221T191850Z
UID:10000081-1747762200-1747771200@greenhillsgolflinks.com
SUMMARY:Pepsi Match Play League
DESCRIPTION:
URL:https://greenhillsgolflinks.com/event/pepsi-match-play-league/2025-05-20/
LOCATION:Green Hills Golf Course\, 500 W Mohawk Rd\, Chillicothe\, Missouri\, 64601\, United States
END:VEVENT
BEGIN:VEVENT
DTSTART;TZID=UTC:20250520T090000
DTEND;TZID=UTC:20250520T120000
DTSTAMP:20260422T004915
CREATED:20250221T191008Z
LAST-MODIFIED:20250409T151649Z
UID:10000055-1747731600-1747742400@greenhillsgolflinks.com
SUMMARY:BTC Senior League
DESCRIPTION:
URL:https://greenhillsgolflinks.com/event/btc-senior-league/2025-05-20/
LOCATION:Green Hills Golf Course\, 500 W Mohawk Rd\, Chillicothe\, Missouri\, 64601\, United States
END:VEVENT
BEGIN:VEVENT
DTSTART;TZID=UTC:20250516T090000
DTEND;TZID=UTC:20250516T120000
DTSTAMP:20260422T004915
CREATED:20250221T191008Z
LAST-MODIFIED:20250409T151649Z
UID:10000054-1747386000-1747396800@greenhillsgolflinks.com
SUMMARY:BTC Senior League
DESCRIPTION:
URL:https://greenhillsgolflinks.com/event/btc-senior-league/2025-05-16/
LOCATION:Green Hills Golf Course\, 500 W Mohawk Rd\, Chillicothe\, Missouri\, 64601\, United States
END:VEVENT
BEGIN:VEVENT
DTSTART;TZID=UTC:20250515T173000
DTEND;TZID=UTC:20250515T200000
DTSTAMP:20260422T004915
CREATED:20250221T190458Z
LAST-MODIFIED:20250221T190627Z
UID:10000012-1747330200-1747339200@greenhillsgolflinks.com
SUMMARY:Pepsi Scramble League
DESCRIPTION:
URL:https://greenhillsgolflinks.com/event/pepsi-scramble-league/2025-05-15/
LOCATION:Green Hills Golf Course\, 500 W Mohawk Rd\, Chillicothe\, Missouri\, 64601\, United States
END:VEVENT
BEGIN:VEVENT
DTSTART;TZID=UTC:20250513T090000
DTEND;TZID=UTC:20250513T120000
DTSTAMP:20260422T004915
CREATED:20250221T191008Z
LAST-MODIFIED:20250409T151649Z
UID:10000053-1747126800-1747137600@greenhillsgolflinks.com
SUMMARY:BTC Senior League
DESCRIPTION:
URL:https://greenhillsgolflinks.com/event/btc-senior-league/2025-05-13/
LOCATION:Green Hills Golf Course\, 500 W Mohawk Rd\, Chillicothe\, Missouri\, 64601\, United States
END:VEVENT
BEGIN:VEVENT
DTSTART;TZID=UTC:20250510T110000
DTEND;TZID=UTC:20250510T123000
DTSTAMP:20260422T004915
CREATED:20250221T191235Z
LAST-MODIFIED:20250221T191303Z
UID:10000077-1746874800-1746880200@greenhillsgolflinks.com
SUMMARY:Free Ladies Clinic
DESCRIPTION:
URL:https://greenhillsgolflinks.com/event/free-ladies-clinic/2025-05-10/
LOCATION:Green Hills Golf Course\, 500 W Mohawk Rd\, Chillicothe\, Missouri\, 64601\, United States
END:VEVENT
BEGIN:VEVENT
DTSTART;TZID=UTC:20250508T173000
DTEND;TZID=UTC:20250508T200000
DTSTAMP:20260422T004915
CREATED:20250221T190458Z
LAST-MODIFIED:20250221T190627Z
UID:10000011-1746725400-1746734400@greenhillsgolflinks.com
SUMMARY:Pepsi Scramble League
DESCRIPTION:
URL:https://greenhillsgolflinks.com/event/pepsi-scramble-league/2025-05-08/
LOCATION:Green Hills Golf Course\, 500 W Mohawk Rd\, Chillicothe\, Missouri\, 64601\, United States
END:VEVENT
BEGIN:VEVENT
DTSTART;TZID=UTC:20250408T080000
DTEND;TZID=UTC:20250408T170000
DTSTAMP:20260422T004915
CREATED:20250331T183609Z
LAST-MODIFIED:20250331T183805Z
UID:10000139-1744099200-1744131600@greenhillsgolflinks.com
SUMMARY:Aeration
DESCRIPTION:9 Holes will be closed each day.
URL:https://greenhillsgolflinks.com/event/aeration/2025-04-08/2/
LOCATION:Missouri
END:VEVENT
BEGIN:VEVENT
DTSTART;TZID=UTC:20250408T000000
DTEND;TZID=UTC:20250409T235959
DTSTAMP:20260422T004915
CREATED:20250331T183609Z
LAST-MODIFIED:20250331T183805Z
UID:10000138-1744070400-1744243199@greenhillsgolflinks.com
SUMMARY:Aeration
DESCRIPTION:9 Holes will be closed each day.
URL:https://greenhillsgolflinks.com/event/aeration/2025-04-08/1/
LOCATION:Missouri
END:VEVENT
BEGIN:VEVENT
DTSTART;TZID=UTC:20250317T000000
DTEND;TZID=UTC:20250317T235959
DTSTAMP:20260422T004915
CREATED:20231121T222235Z
LAST-MODIFIED:20240517T124501Z
UID:10000006-1742169600-1742255999@greenhillsgolflinks.com
SUMMARY:Saint Patrick's Day
DESCRIPTION:
URL:https://greenhillsgolflinks.com/event/saint-patricks-day/
LOCATION:Missouri
CATEGORIES:Holidays
END:VEVENT
BEGIN:VEVENT
DTSTART;TZID=UTC:20250101T000000
DTEND;TZID=UTC:20250101T235959
DTSTAMP:20260422T004915
CREATED:20231005T175327Z
LAST-MODIFIED:20240517T124523Z
UID:10000003-1735689600-1735775999@greenhillsgolflinks.com
SUMMARY:New Year's Eve
DESCRIPTION:
URL:https://greenhillsgolflinks.com/event/new-years-eve/
LOCATION:Missouri
CATEGORIES:Holidays
END:VEVENT
BEGIN:VEVENT
DTSTART;TZID=UTC:20241225T000000
DTEND;TZID=UTC:20241225T235959
DTSTAMP:20260422T004915
CREATED:20231121T222203Z
LAST-MODIFIED:20240517T124549Z
UID:10000005-1735084800-1735171199@greenhillsgolflinks.com
SUMMARY:Christmas
DESCRIPTION:
URL:https://greenhillsgolflinks.com/event/christmas/
LOCATION:Missouri
CATEGORIES:Holidays
END:VEVENT
END:VCALENDAR