BEGIN:VCALENDAR
VERSION:2.0
PRODID:-//Green Hills Golf Course - Chillicothe, MO - ECPv6.15.20//NONSGML v1.0//EN
CALSCALE:GREGORIAN
METHOD:PUBLISH
X-WR-CALNAME:Green Hills Golf Course - Chillicothe, MO
X-ORIGINAL-URL:https://greenhillsgolflinks.com
X-WR-CALDESC:Events for Green Hills Golf Course - Chillicothe, MO
REFRESH-INTERVAL;VALUE=DURATION:PT1H
X-Robots-Tag:noindex
X-PUBLISHED-TTL:PT1H
BEGIN:VTIMEZONE
TZID:UTC
BEGIN:STANDARD
TZOFFSETFROM:+0000
TZOFFSETTO:+0000
TZNAME:UTC
DTSTART:20240101T000000
END:STANDARD
END:VTIMEZONE
BEGIN:VEVENT
DTSTART;TZID=UTC:20250701T090000
DTEND;TZID=UTC:20250701T120000
DTSTAMP:20260419T150010
CREATED:20250221T191008Z
LAST-MODIFIED:20250409T151649Z
UID:10000067-1751360400-1751371200@greenhillsgolflinks.com
SUMMARY:BTC Senior League
DESCRIPTION:
URL:https://greenhillsgolflinks.com/event/btc-senior-league/2025-07-01/
LOCATION:Green Hills Golf Course\, 500 W Mohawk Rd\, Chillicothe\, Missouri\, 64601\, United States
END:VEVENT
BEGIN:VEVENT
DTSTART;TZID=UTC:20250630T180000
DTEND;TZID=UTC:20250630T193000
DTSTAMP:20260419T150010
CREATED:20250221T191235Z
LAST-MODIFIED:20250221T191303Z
UID:10000080-1751306400-1751311800@greenhillsgolflinks.com
SUMMARY:Free Ladies Clinic
DESCRIPTION:
URL:https://greenhillsgolflinks.com/event/free-ladies-clinic/2025-06-30/
LOCATION:Green Hills Golf Course\, 500 W Mohawk Rd\, Chillicothe\, Missouri\, 64601\, United States
END:VEVENT
BEGIN:VEVENT
DTSTART;TZID=UTC:20250626T173000
DTEND;TZID=UTC:20250626T200000
DTSTAMP:20260419T150011
CREATED:20250221T190458Z
LAST-MODIFIED:20250221T190627Z
UID:10000018-1750959000-1750968000@greenhillsgolflinks.com
SUMMARY:Pepsi Scramble League
DESCRIPTION:
URL:https://greenhillsgolflinks.com/event/pepsi-scramble-league/2025-06-26/
LOCATION:Green Hills Golf Course\, 500 W Mohawk Rd\, Chillicothe\, Missouri\, 64601\, United States
END:VEVENT
BEGIN:VEVENT
DTSTART;TZID=UTC:20250626T090000
DTEND;TZID=UTC:20250626T120000
DTSTAMP:20260419T150011
CREATED:20250221T191008Z
LAST-MODIFIED:20250409T151649Z
UID:10000144-1750928400-1750939200@greenhillsgolflinks.com
SUMMARY:BTC Senior League
DESCRIPTION:
URL:https://greenhillsgolflinks.com/event/btc-senior-league/2025-06-26/
LOCATION:Green Hills Golf Course\, 500 W Mohawk Rd\, Chillicothe\, Missouri\, 64601\, United States
END:VEVENT
BEGIN:VEVENT
DTSTART;TZID=UTC:20250625T173000
DTEND;TZID=UTC:20250625T200000
DTSTAMP:20260419T150011
CREATED:20250221T192532Z
LAST-MODIFIED:20250221T192536Z
UID:10000105-1750872600-1750881600@greenhillsgolflinks.com
SUMMARY:Couple's League
DESCRIPTION:
URL:https://greenhillsgolflinks.com/event/couples-league/2025-06-25/
LOCATION:Green Hills Golf Course\, 500 W Mohawk Rd\, Chillicothe\, Missouri\, 64601\, United States
END:VEVENT
BEGIN:VEVENT
DTSTART;TZID=UTC:20250624T173000
DTEND;TZID=UTC:20250624T200000
DTSTAMP:20260419T150011
CREATED:20250221T191847Z
LAST-MODIFIED:20250221T191850Z
UID:10000086-1750786200-1750795200@greenhillsgolflinks.com
SUMMARY:Pepsi Match Play League
DESCRIPTION:
URL:https://greenhillsgolflinks.com/event/pepsi-match-play-league/2025-06-24/
LOCATION:Green Hills Golf Course\, 500 W Mohawk Rd\, Chillicothe\, Missouri\, 64601\, United States
END:VEVENT
BEGIN:VEVENT
DTSTART;TZID=UTC:20250624T090000
DTEND;TZID=UTC:20250624T120000
DTSTAMP:20260419T150011
CREATED:20250221T191008Z
LAST-MODIFIED:20250409T151649Z
UID:10000065-1750755600-1750766400@greenhillsgolflinks.com
SUMMARY:BTC Senior League
DESCRIPTION:
URL:https://greenhillsgolflinks.com/event/btc-senior-league/2025-06-24/
LOCATION:Green Hills Golf Course\, 500 W Mohawk Rd\, Chillicothe\, Missouri\, 64601\, United States
END:VEVENT
BEGIN:VEVENT
DTSTART;TZID=UTC:20250619T173000
DTEND;TZID=UTC:20250619T200000
DTSTAMP:20260419T150011
CREATED:20250221T190458Z
LAST-MODIFIED:20250221T190627Z
UID:10000017-1750354200-1750363200@greenhillsgolflinks.com
SUMMARY:Pepsi Scramble League
DESCRIPTION:
URL:https://greenhillsgolflinks.com/event/pepsi-scramble-league/2025-06-19/
LOCATION:Green Hills Golf Course\, 500 W Mohawk Rd\, Chillicothe\, Missouri\, 64601\, United States
END:VEVENT
BEGIN:VEVENT
DTSTART;TZID=UTC:20250619T090000
DTEND;TZID=UTC:20250619T120000
DTSTAMP:20260419T150011
CREATED:20250221T191008Z
LAST-MODIFIED:20250409T151649Z
UID:10000143-1750323600-1750334400@greenhillsgolflinks.com
SUMMARY:BTC Senior League
DESCRIPTION:
URL:https://greenhillsgolflinks.com/event/btc-senior-league/2025-06-19/
LOCATION:Green Hills Golf Course\, 500 W Mohawk Rd\, Chillicothe\, Missouri\, 64601\, United States
END:VEVENT
BEGIN:VEVENT
DTSTART;TZID=UTC:20250618T173000
DTEND;TZID=UTC:20250618T200000
DTSTAMP:20260419T150011
CREATED:20250221T192532Z
LAST-MODIFIED:20250221T192536Z
UID:10000104-1750267800-1750276800@greenhillsgolflinks.com
SUMMARY:Couple's League
DESCRIPTION:
URL:https://greenhillsgolflinks.com/event/couples-league/2025-06-18/
LOCATION:Green Hills Golf Course\, 500 W Mohawk Rd\, Chillicothe\, Missouri\, 64601\, United States
END:VEVENT
BEGIN:VEVENT
DTSTART;TZID=UTC:20250617T173000
DTEND;TZID=UTC:20250617T200000
DTSTAMP:20260419T150011
CREATED:20250221T191847Z
LAST-MODIFIED:20250221T191850Z
UID:10000085-1750181400-1750190400@greenhillsgolflinks.com
SUMMARY:Pepsi Match Play League
DESCRIPTION:
URL:https://greenhillsgolflinks.com/event/pepsi-match-play-league/2025-06-17/
LOCATION:Green Hills Golf Course\, 500 W Mohawk Rd\, Chillicothe\, Missouri\, 64601\, United States
END:VEVENT
BEGIN:VEVENT
DTSTART;TZID=UTC:20250617T090000
DTEND;TZID=UTC:20250617T120000
DTSTAMP:20260419T150011
CREATED:20250221T191008Z
LAST-MODIFIED:20250409T151649Z
UID:10000063-1750150800-1750161600@greenhillsgolflinks.com
SUMMARY:BTC Senior League
DESCRIPTION:
URL:https://greenhillsgolflinks.com/event/btc-senior-league/2025-06-17/
LOCATION:Green Hills Golf Course\, 500 W Mohawk Rd\, Chillicothe\, Missouri\, 64601\, United States
END:VEVENT
BEGIN:VEVENT
DTSTART;TZID=UTC:20250613T090000
DTEND;TZID=UTC:20250613T120000
DTSTAMP:20260419T150011
CREATED:20250221T191008Z
LAST-MODIFIED:20250409T151649Z
UID:10000062-1749805200-1749816000@greenhillsgolflinks.com
SUMMARY:BTC Senior League
DESCRIPTION:
URL:https://greenhillsgolflinks.com/event/btc-senior-league/2025-06-13/
LOCATION:Green Hills Golf Course\, 500 W Mohawk Rd\, Chillicothe\, Missouri\, 64601\, United States
END:VEVENT
BEGIN:VEVENT
DTSTART;TZID=UTC:20250612T173000
DTEND;TZID=UTC:20250612T200000
DTSTAMP:20260419T150011
CREATED:20250221T190458Z
LAST-MODIFIED:20250221T190627Z
UID:10000016-1749749400-1749758400@greenhillsgolflinks.com
SUMMARY:Pepsi Scramble League
DESCRIPTION:
URL:https://greenhillsgolflinks.com/event/pepsi-scramble-league/2025-06-12/
LOCATION:Green Hills Golf Course\, 500 W Mohawk Rd\, Chillicothe\, Missouri\, 64601\, United States
END:VEVENT
BEGIN:VEVENT
DTSTART;TZID=UTC:20250611T173000
DTEND;TZID=UTC:20250611T200000
DTSTAMP:20260419T150011
CREATED:20250221T192532Z
LAST-MODIFIED:20250221T192536Z
UID:10000103-1749663000-1749672000@greenhillsgolflinks.com
SUMMARY:Couple's League
DESCRIPTION:
URL:https://greenhillsgolflinks.com/event/couples-league/2025-06-11/
LOCATION:Green Hills Golf Course\, 500 W Mohawk Rd\, Chillicothe\, Missouri\, 64601\, United States
END:VEVENT
BEGIN:VEVENT
DTSTART;TZID=UTC:20250610T173000
DTEND;TZID=UTC:20250610T200000
DTSTAMP:20260419T150011
CREATED:20250221T191847Z
LAST-MODIFIED:20250221T191850Z
UID:10000084-1749576600-1749585600@greenhillsgolflinks.com
SUMMARY:Pepsi Match Play League
DESCRIPTION:
URL:https://greenhillsgolflinks.com/event/pepsi-match-play-league/2025-06-10/
LOCATION:Green Hills Golf Course\, 500 W Mohawk Rd\, Chillicothe\, Missouri\, 64601\, United States
END:VEVENT
BEGIN:VEVENT
DTSTART;TZID=UTC:20250610T090000
DTEND;TZID=UTC:20250610T120000
DTSTAMP:20260419T150011
CREATED:20250221T191008Z
LAST-MODIFIED:20250409T151649Z
UID:10000061-1749546000-1749556800@greenhillsgolflinks.com
SUMMARY:BTC Senior League
DESCRIPTION:
URL:https://greenhillsgolflinks.com/event/btc-senior-league/2025-06-10/
LOCATION:Green Hills Golf Course\, 500 W Mohawk Rd\, Chillicothe\, Missouri\, 64601\, United States
END:VEVENT
BEGIN:VEVENT
DTSTART;TZID=UTC:20250609T180000
DTEND;TZID=UTC:20250609T193000
DTSTAMP:20260419T150011
CREATED:20250221T191235Z
LAST-MODIFIED:20250221T191303Z
UID:10000079-1749492000-1749497400@greenhillsgolflinks.com
SUMMARY:Free Ladies Clinic
DESCRIPTION:
URL:https://greenhillsgolflinks.com/event/free-ladies-clinic/2025-06-09/
LOCATION:Green Hills Golf Course\, 500 W Mohawk Rd\, Chillicothe\, Missouri\, 64601\, United States
END:VEVENT
BEGIN:VEVENT
DTSTART;TZID=UTC:20250606T000000
DTEND;TZID=UTC:20250606T235959
DTSTAMP:20260419T150011
CREATED:20250221T192729Z
LAST-MODIFIED:20250221T192733Z
UID:10000115-1749168000-1749254399@greenhillsgolflinks.com
SUMMARY:AYBC tournament
DESCRIPTION:
URL:https://greenhillsgolflinks.com/event/aybc-tournament/
LOCATION:Green Hills Golf Course\, 500 W Mohawk Rd\, Chillicothe\, Missouri\, 64601\, United States
END:VEVENT
BEGIN:VEVENT
DTSTART;TZID=UTC:20250605T173000
DTEND;TZID=UTC:20250605T200000
DTSTAMP:20260419T150011
CREATED:20250221T190458Z
LAST-MODIFIED:20250221T190627Z
UID:10000015-1749144600-1749153600@greenhillsgolflinks.com
SUMMARY:Pepsi Scramble League
DESCRIPTION:
URL:https://greenhillsgolflinks.com/event/pepsi-scramble-league/2025-06-05/
LOCATION:Green Hills Golf Course\, 500 W Mohawk Rd\, Chillicothe\, Missouri\, 64601\, United States
END:VEVENT
BEGIN:VEVENT
DTSTART;TZID=UTC:20250605T090000
DTEND;TZID=UTC:20250605T120000
DTSTAMP:20260419T150011
CREATED:20250221T191008Z
LAST-MODIFIED:20250409T151649Z
UID:10000142-1749114000-1749124800@greenhillsgolflinks.com
SUMMARY:BTC Senior League
DESCRIPTION:
URL:https://greenhillsgolflinks.com/event/btc-senior-league/2025-06-05/
LOCATION:Green Hills Golf Course\, 500 W Mohawk Rd\, Chillicothe\, Missouri\, 64601\, United States
END:VEVENT
BEGIN:VEVENT
DTSTART;TZID=UTC:20250604T173000
DTEND;TZID=UTC:20250604T200000
DTSTAMP:20260419T150011
CREATED:20250221T192532Z
LAST-MODIFIED:20250221T192536Z
UID:10000102-1749058200-1749067200@greenhillsgolflinks.com
SUMMARY:Couple's League
DESCRIPTION:
URL:https://greenhillsgolflinks.com/event/couples-league/2025-06-04/
LOCATION:Green Hills Golf Course\, 500 W Mohawk Rd\, Chillicothe\, Missouri\, 64601\, United States
END:VEVENT
BEGIN:VEVENT
DTSTART;TZID=UTC:20250603T173000
DTEND;TZID=UTC:20250603T200000
DTSTAMP:20260419T150011
CREATED:20250221T191847Z
LAST-MODIFIED:20250221T191850Z
UID:10000083-1748971800-1748980800@greenhillsgolflinks.com
SUMMARY:Pepsi Match Play League
DESCRIPTION:
URL:https://greenhillsgolflinks.com/event/pepsi-match-play-league/2025-06-03/
LOCATION:Green Hills Golf Course\, 500 W Mohawk Rd\, Chillicothe\, Missouri\, 64601\, United States
END:VEVENT
BEGIN:VEVENT
DTSTART;TZID=UTC:20250603T090000
DTEND;TZID=UTC:20250603T120000
DTSTAMP:20260419T150011
CREATED:20250221T191008Z
LAST-MODIFIED:20250409T151649Z
UID:10000059-1748941200-1748952000@greenhillsgolflinks.com
SUMMARY:BTC Senior League
DESCRIPTION:
URL:https://greenhillsgolflinks.com/event/btc-senior-league/2025-06-03/
LOCATION:Green Hills Golf Course\, 500 W Mohawk Rd\, Chillicothe\, Missouri\, 64601\, United States
END:VEVENT
BEGIN:VEVENT
DTSTART;TZID=UTC:20250529T173000
DTEND;TZID=UTC:20250529T200000
DTSTAMP:20260419T150011
CREATED:20250221T190458Z
LAST-MODIFIED:20250221T190627Z
UID:10000014-1748539800-1748548800@greenhillsgolflinks.com
SUMMARY:Pepsi Scramble League
DESCRIPTION:
URL:https://greenhillsgolflinks.com/event/pepsi-scramble-league/2025-05-29/
LOCATION:Green Hills Golf Course\, 500 W Mohawk Rd\, Chillicothe\, Missouri\, 64601\, United States
END:VEVENT
BEGIN:VEVENT
DTSTART;TZID=UTC:20250529T090000
DTEND;TZID=UTC:20250529T120000
DTSTAMP:20260419T150011
CREATED:20250221T191008Z
LAST-MODIFIED:20250409T151649Z
UID:10000141-1748509200-1748520000@greenhillsgolflinks.com
SUMMARY:BTC Senior League
DESCRIPTION:
URL:https://greenhillsgolflinks.com/event/btc-senior-league/2025-05-29/
LOCATION:Green Hills Golf Course\, 500 W Mohawk Rd\, Chillicothe\, Missouri\, 64601\, United States
END:VEVENT
BEGIN:VEVENT
DTSTART;TZID=UTC:20250528T173000
DTEND;TZID=UTC:20250528T200000
DTSTAMP:20260419T150011
CREATED:20250221T192532Z
LAST-MODIFIED:20250221T192536Z
UID:10000101-1748453400-1748462400@greenhillsgolflinks.com
SUMMARY:Couple's League
DESCRIPTION:
URL:https://greenhillsgolflinks.com/event/couples-league/2025-05-28/
LOCATION:Green Hills Golf Course\, 500 W Mohawk Rd\, Chillicothe\, Missouri\, 64601\, United States
END:VEVENT
BEGIN:VEVENT
DTSTART;TZID=UTC:20250527T173000
DTEND;TZID=UTC:20250527T200000
DTSTAMP:20260419T150011
CREATED:20250221T191847Z
LAST-MODIFIED:20250221T191850Z
UID:10000082-1748367000-1748376000@greenhillsgolflinks.com
SUMMARY:Pepsi Match Play League
DESCRIPTION:
URL:https://greenhillsgolflinks.com/event/pepsi-match-play-league/2025-05-27/
LOCATION:Green Hills Golf Course\, 500 W Mohawk Rd\, Chillicothe\, Missouri\, 64601\, United States
END:VEVENT
BEGIN:VEVENT
DTSTART;TZID=UTC:20250527T090000
DTEND;TZID=UTC:20250527T120000
DTSTAMP:20260419T150011
CREATED:20250221T191008Z
LAST-MODIFIED:20250409T151649Z
UID:10000057-1748336400-1748347200@greenhillsgolflinks.com
SUMMARY:BTC Senior League
DESCRIPTION:
URL:https://greenhillsgolflinks.com/event/btc-senior-league/2025-05-27/
LOCATION:Green Hills Golf Course\, 500 W Mohawk Rd\, Chillicothe\, Missouri\, 64601\, United States
END:VEVENT
BEGIN:VEVENT
DTSTART;TZID=UTC:20250525T120000
DTEND;TZID=UTC:20250525T133000
DTSTAMP:20260419T150011
CREATED:20250221T191235Z
LAST-MODIFIED:20250221T191303Z
UID:10000078-1748174400-1748179800@greenhillsgolflinks.com
SUMMARY:Free Ladies Clinic
DESCRIPTION:
URL:https://greenhillsgolflinks.com/event/free-ladies-clinic/2025-05-25/
LOCATION:Green Hills Golf Course\, 500 W Mohawk Rd\, Chillicothe\, Missouri\, 64601\, United States
END:VEVENT
END:VCALENDAR